BEGIN:VCALENDAR
VERSION:2.0
PRODID:Events Booking
BEGIN:VEVENT
UID:69e8cc453b202
SUMMARY:Solving Problems with Bar Models - Online PD
DESCRIPTION:Duration - 4 Weeks. Approved for 4 CEUs
 Early Bird Registration - 4/30/25 - Save $69!
DTSTART:20250602T000000Z
DTEND:20250627T000000Z
DTSTAMP:20260422T132525Z
ORGANIZER;CN=EastWestMath:MAILTO:info@eastwestmath.com
END:VEVENT
END:VCALENDAR